BEGIN:VCALENDAR
VERSION:2.0
PRODID:-//BirdLife Brugg, 5200 Brugg AG - ECPv6.15.20//NONSGML v1.0//EN
CALSCALE:GREGORIAN
METHOD:PUBLISH
X-WR-CALNAME:BirdLife Brugg, 5200 Brugg AG
X-ORIGINAL-URL:https://wp.birdlife-brugg.ch
X-WR-CALDESC:Veranstaltungen für BirdLife Brugg, 5200 Brugg AG
REFRESH-INTERVAL;VALUE=DURATION:PT1H
X-Robots-Tag:noindex
X-PUBLISHED-TTL:PT1H
BEGIN:VTIMEZONE
TZID:Europe/Zurich
BEGIN:DAYLIGHT
TZOFFSETFROM:+0100
TZOFFSETTO:+0200
TZNAME:CEST
DTSTART:20240331T010000
END:DAYLIGHT
BEGIN:STANDARD
TZOFFSETFROM:+0200
TZOFFSETTO:+0100
TZNAME:CET
DTSTART:20241027T010000
END:STANDARD
BEGIN:DAYLIGHT
TZOFFSETFROM:+0100
TZOFFSETTO:+0200
TZNAME:CEST
DTSTART:20250330T010000
END:DAYLIGHT
BEGIN:STANDARD
TZOFFSETFROM:+0200
TZOFFSETTO:+0100
TZNAME:CET
DTSTART:20251026T010000
END:STANDARD
BEGIN:DAYLIGHT
TZOFFSETFROM:+0100
TZOFFSETTO:+0200
TZNAME:CEST
DTSTART:20260329T010000
END:DAYLIGHT
BEGIN:STANDARD
TZOFFSETFROM:+0200
TZOFFSETTO:+0100
TZNAME:CET
DTSTART:20261025T010000
END:STANDARD
END:VTIMEZONE
BEGIN:VEVENT
DTSTART;TZID=Europe/Zurich:20251009T170000
DTEND;TZID=Europe/Zurich:20251009T200000
DTSTAMP:20260424T210646
CREATED:20251120T160210Z
LAST-MODIFIED:20251120T160210Z
UID:5228-1760029200-1760040000@wp.birdlife-brugg.ch
SUMMARY:Hüttenhock
DESCRIPTION:Bräteln und gemütliches Beisammensein
URL:https://wp.birdlife-brugg.ch/event/huettenhock/
CATEGORIES:Geselligkeit
ORGANIZER;CN="H%C3%BCttenverantwortliche":MAILTO:sekretariat@birdlife-brugg.ch
END:VEVENT
END:VCALENDAR