BEGIN:VCALENDAR
VERSION:2.0
PRODID:-//BirdLife Brugg, 5200 Brugg AG - ECPv6.15.20//NONSGML v1.0//EN
CALSCALE:GREGORIAN
METHOD:PUBLISH
X-WR-CALNAME:BirdLife Brugg, 5200 Brugg AG
X-ORIGINAL-URL:https://wp.birdlife-brugg.ch
X-WR-CALDESC:Veranstaltungen für BirdLife Brugg, 5200 Brugg AG
REFRESH-INTERVAL;VALUE=DURATION:PT1H
X-Robots-Tag:noindex
X-PUBLISHED-TTL:PT1H
BEGIN:VTIMEZONE
TZID:Europe/Zurich
BEGIN:DAYLIGHT
TZOFFSETFROM:+0100
TZOFFSETTO:+0200
TZNAME:CEST
DTSTART:20250330T010000
END:DAYLIGHT
BEGIN:STANDARD
TZOFFSETFROM:+0200
TZOFFSETTO:+0100
TZNAME:CET
DTSTART:20251026T010000
END:STANDARD
BEGIN:DAYLIGHT
TZOFFSETFROM:+0100
TZOFFSETTO:+0200
TZNAME:CEST
DTSTART:20260329T010000
END:DAYLIGHT
BEGIN:STANDARD
TZOFFSETFROM:+0200
TZOFFSETTO:+0100
TZNAME:CET
DTSTART:20261025T010000
END:STANDARD
BEGIN:DAYLIGHT
TZOFFSETFROM:+0100
TZOFFSETTO:+0200
TZNAME:CEST
DTSTART:20270328T010000
END:DAYLIGHT
BEGIN:STANDARD
TZOFFSETFROM:+0200
TZOFFSETTO:+0100
TZNAME:CET
DTSTART:20271031T010000
END:STANDARD
END:VTIMEZONE
BEGIN:VEVENT
DTSTART;TZID=Europe/Zurich:20260128T193000
DTEND;TZID=Europe/Zurich:20260128T210000
DTSTAMP:20260424T135426
CREATED:20251120T153053Z
LAST-MODIFIED:20251120T155002Z
UID:5209-1769628600-1769634000@wp.birdlife-brugg.ch
SUMMARY:GV 2026
DESCRIPTION:
URL:https://wp.birdlife-brugg.ch/event/gv-2026/
LOCATION:Süssbach-Zentrum\, Brugg
CATEGORIES:Administratives
END:VEVENT
END:VCALENDAR