BEGIN:VCALENDAR
VERSION:2.0
PRODID:-//BirdLife Brugg, 5200 Brugg AG - ECPv6.15.20//NONSGML v1.0//EN
CALSCALE:GREGORIAN
METHOD:PUBLISH
X-ORIGINAL-URL:https://wp.birdlife-brugg.ch
X-WR-CALDESC:Veranstaltungen für BirdLife Brugg, 5200 Brugg AG
REFRESH-INTERVAL;VALUE=DURATION:PT1H
X-Robots-Tag:noindex
X-PUBLISHED-TTL:PT1H
BEGIN:VTIMEZONE
TZID:Europe/Zurich
BEGIN:DAYLIGHT
TZOFFSETFROM:+0100
TZOFFSETTO:+0200
TZNAME:CEST
DTSTART:20250330T010000
END:DAYLIGHT
BEGIN:STANDARD
TZOFFSETFROM:+0200
TZOFFSETTO:+0100
TZNAME:CET
DTSTART:20251026T010000
END:STANDARD
BEGIN:DAYLIGHT
TZOFFSETFROM:+0100
TZOFFSETTO:+0200
TZNAME:CEST
DTSTART:20260329T010000
END:DAYLIGHT
BEGIN:STANDARD
TZOFFSETFROM:+0200
TZOFFSETTO:+0100
TZNAME:CET
DTSTART:20261025T010000
END:STANDARD
BEGIN:DAYLIGHT
TZOFFSETFROM:+0100
TZOFFSETTO:+0200
TZNAME:CEST
DTSTART:20270328T010000
END:DAYLIGHT
BEGIN:STANDARD
TZOFFSETFROM:+0200
TZOFFSETTO:+0100
TZNAME:CET
DTSTART:20271031T010000
END:STANDARD
END:VTIMEZONE
BEGIN:VEVENT
DTSTART;TZID=Europe/Zurich:20260709T180000
DTEND;TZID=Europe/Zurich:20260709T200000
DTSTAMP:20260424T135840
CREATED:20251231T085210Z
LAST-MODIFIED:20260111T141456Z
UID:5458-1783620000-1783627200@wp.birdlife-brugg.ch
SUMMARY:Hüttenhock
DESCRIPTION:Bräteln und gemütliches Beisammensein
URL:https://wp.birdlife-brugg.ch/event/huettenhock-5/
LOCATION:Hütte\, Umiken\, Umiken
CATEGORIES:Geselligkeit
END:VEVENT
BEGIN:VEVENT
DTSTART;VALUE=DATE:20260715
DTEND;VALUE=DATE:20260717
DTSTAMP:20260424T135840
CREATED:20251231T092344Z
LAST-MODIFIED:20251231T134425Z
UID:5501-1784073600-1784246399@wp.birdlife-brugg.ch
SUMMARY:Bartgeier-Auswilderung
DESCRIPTION:Auswilderungsstation Melchsee-Frutt mit Bus\nDatum abhängig von Bartgeier-Auswilderung\nKontakt: F. Lörcher
URL:https://wp.birdlife-brugg.ch/event/bartgeier-auswilderung/
CATEGORIES:Exkursionen, Veranstaltungen
END:VEVENT
END:VCALENDAR