BEGIN:VCALENDAR
VERSION:2.0
PRODID:-//BirdLife Brugg, 5200 Brugg AG - ECPv6.15.20//NONSGML v1.0//EN
CALSCALE:GREGORIAN
METHOD:PUBLISH
X-WR-CALNAME:BirdLife Brugg, 5200 Brugg AG
X-ORIGINAL-URL:https://wp.birdlife-brugg.ch
X-WR-CALDESC:Veranstaltungen für BirdLife Brugg, 5200 Brugg AG
REFRESH-INTERVAL;VALUE=DURATION:PT1H
X-Robots-Tag:noindex
X-PUBLISHED-TTL:PT1H
BEGIN:VTIMEZONE
TZID:Europe/Zurich
BEGIN:DAYLIGHT
TZOFFSETFROM:+0100
TZOFFSETTO:+0200
TZNAME:CEST
DTSTART:20250330T010000
END:DAYLIGHT
BEGIN:STANDARD
TZOFFSETFROM:+0200
TZOFFSETTO:+0100
TZNAME:CET
DTSTART:20251026T010000
END:STANDARD
BEGIN:DAYLIGHT
TZOFFSETFROM:+0100
TZOFFSETTO:+0200
TZNAME:CEST
DTSTART:20260329T010000
END:DAYLIGHT
BEGIN:STANDARD
TZOFFSETFROM:+0200
TZOFFSETTO:+0100
TZNAME:CET
DTSTART:20261025T010000
END:STANDARD
BEGIN:DAYLIGHT
TZOFFSETFROM:+0100
TZOFFSETTO:+0200
TZNAME:CEST
DTSTART:20270328T010000
END:DAYLIGHT
BEGIN:STANDARD
TZOFFSETFROM:+0200
TZOFFSETTO:+0100
TZNAME:CET
DTSTART:20271031T010000
END:STANDARD
END:VTIMEZONE
BEGIN:VEVENT
DTSTART;TZID=Europe/Zurich:20260905T080000
DTEND;TZID=Europe/Zurich:20260905T170000
DTSTAMP:20260424T174052
CREATED:20251231T092634Z
LAST-MODIFIED:20251231T092634Z
UID:5510-1788595200-1788627600@wp.birdlife-brugg.ch
SUMMARY:Pflegeeinsatz BirdLife Aargau
DESCRIPTION:
URL:https://wp.birdlife-brugg.ch/event/pflegeeinsatz-birdlife-aargau/
LOCATION:Feret Densbüren
CATEGORIES:Andere
END:VEVENT
BEGIN:VEVENT
DTSTART;TZID=Europe/Zurich:20260910T180000
DTEND;TZID=Europe/Zurich:20260910T200000
DTSTAMP:20260424T174052
CREATED:20251231T085422Z
LAST-MODIFIED:20260111T141423Z
UID:5462-1789063200-1789070400@wp.birdlife-brugg.ch
SUMMARY:Hüttenhock
DESCRIPTION:Bräteln und gemütliches Beisammensein
URL:https://wp.birdlife-brugg.ch/event/huettenhock-7/
LOCATION:Hütte\, Umiken\, Umiken
CATEGORIES:Geselligkeit
END:VEVENT
BEGIN:VEVENT
DTSTART;TZID=Europe/Zurich:20260912T090000
DTEND;TZID=Europe/Zurich:20260912T120000
DTSTAMP:20260424T174053
CREATED:20251231T090817Z
LAST-MODIFIED:20260111T141802Z
UID:5482-1789203600-1789214400@wp.birdlife-brugg.ch
SUMMARY:Holzen
DESCRIPTION:für die Vogelschutzhütte
URL:https://wp.birdlife-brugg.ch/event/holzen/
LOCATION:Hütte\, Umiken\, Umiken
CATEGORIES:Arbeitstage
END:VEVENT
BEGIN:VEVENT
DTSTART;TZID=Europe/Zurich:20260919T130000
DTEND;TZID=Europe/Zurich:20260919T170000
DTSTAMP:20260424T174053
CREATED:20251231T090703Z
LAST-MODIFIED:20251231T090703Z
UID:5480-1789822800-1789837200@wp.birdlife-brugg.ch
SUMMARY:Exkursion Wildobst-Arboretum
DESCRIPTION:in Hallwil und Dürrenäsch
URL:https://wp.birdlife-brugg.ch/event/exkursion-wildobst-arboretum/
CATEGORIES:Exkursionen, Veranstaltungen
END:VEVENT
BEGIN:VEVENT
DTSTART;VALUE=DATE:20260926
DTEND;VALUE=DATE:20260927
DTSTAMP:20260424T174053
CREATED:20251231T090551Z
LAST-MODIFIED:20251231T090551Z
UID:5476-1790380800-1790467199@wp.birdlife-brugg.ch
SUMMARY:Moschtitag im Unterhag
DESCRIPTION:
URL:https://wp.birdlife-brugg.ch/event/moschtitag-im-unterhag/
LOCATION:Unterhag\, Brugg
CATEGORIES:Exkursionen, Veranstaltungen
END:VEVENT
END:VCALENDAR