BEGIN:VCALENDAR
VERSION:2.0
PRODID:-//BirdLife Brugg, 5200 Brugg AG - ECPv6.15.20//NONSGML v1.0//EN
CALSCALE:GREGORIAN
METHOD:PUBLISH
X-ORIGINAL-URL:https://wp.birdlife-brugg.ch
X-WR-CALDESC:Veranstaltungen für BirdLife Brugg, 5200 Brugg AG
REFRESH-INTERVAL;VALUE=DURATION:PT1H
X-Robots-Tag:noindex
X-PUBLISHED-TTL:PT1H
BEGIN:VTIMEZONE
TZID:Europe/Zurich
BEGIN:DAYLIGHT
TZOFFSETFROM:+0100
TZOFFSETTO:+0200
TZNAME:CEST
DTSTART:20250330T010000
END:DAYLIGHT
BEGIN:STANDARD
TZOFFSETFROM:+0200
TZOFFSETTO:+0100
TZNAME:CET
DTSTART:20251026T010000
END:STANDARD
BEGIN:DAYLIGHT
TZOFFSETFROM:+0100
TZOFFSETTO:+0200
TZNAME:CEST
DTSTART:20260329T010000
END:DAYLIGHT
BEGIN:STANDARD
TZOFFSETFROM:+0200
TZOFFSETTO:+0100
TZNAME:CET
DTSTART:20261025T010000
END:STANDARD
BEGIN:DAYLIGHT
TZOFFSETFROM:+0100
TZOFFSETTO:+0200
TZNAME:CEST
DTSTART:20270328T010000
END:DAYLIGHT
BEGIN:STANDARD
TZOFFSETFROM:+0200
TZOFFSETTO:+0100
TZNAME:CET
DTSTART:20271031T010000
END:STANDARD
END:VTIMEZONE
BEGIN:VEVENT
DTSTART;VALUE=DATE:20261205
DTEND;VALUE=DATE:20261206
DTSTAMP:20260424T224601
CREATED:20251231T085810Z
LAST-MODIFIED:20251231T085810Z
UID:5468-1796428800-1796515199@wp.birdlife-brugg.ch
SUMMARY:Chlaushock
DESCRIPTION:Bräteln und gemütliches Beisammensein
URL:https://wp.birdlife-brugg.ch/event/chlaushock/
LOCATION:Hütte\, Umiken\, Umiken
CATEGORIES:Geselligkeit
END:VEVENT
END:VCALENDAR